BEGIN:VCALENDAR
VERSION:2.0
PRODID:-//hacksw/handcal//NONSGML v1.0//EN
CALSCALE:GREGORIAN
BEGIN:VEVENT
LOCATION:8 Rue Bernard Ballin 19470 Le Lonzac
DESCRIPTION:
DTSTART:20260503T100000
DTEND:20260503T120000
SUMMARY:TROC DE PLANTS A LA MÉDIATHÈQUE
URL;VALUE=URI:https://www.lelonzac.fr/agenda/troc-de-plants-a-la-mediatheque/
DTSTAMP:20260423T114510
UID:69ea064649398
END:VEVENT
END:VCALENDAR