BEGIN:VCALENDAR
VERSION:2.0
PRODID:-//hacksw/handcal//NONSGML v1.0//EN
CALSCALE:GREGORIAN
BEGIN:VEVENT
LOCATION:4 Rue Bernard Ballin 19470 Le Lonzac
DESCRIPTION:Martine SEZER, restauratrice du patrimoine, spécialisée en bois sculptés polychromes, en charge de la restauration...
DTSTART:20260425T103000
DTEND:20260426
SUMMARY:PROCHAINE RENCONTRE « LES CONVERSATIONS DU PATRIMOINE » SUR LA RESTAURATION DE L’ÉGLISE ST MARTIN LE SAMEDI 25 AVRIL À 10h30
URL;VALUE=URI:https://www.lelonzac.fr/agenda/prochaines-conversations-du-patrimoine-sur-la-restauration-de-leglise-st-martin-le-samedi-25-avril-a-10h30/
DTSTAMP:20260421T121611
UID:69e76a8bea79b
END:VEVENT
END:VCALENDAR