BEGIN:VCALENDAR
VERSION:2.0
PRODID:-//hacksw/handcal//NONSGML v1.0//EN
CALSCALE:GREGORIAN
BEGIN:VEVENT
LOCATION:
DESCRIPTION:À la nouvelle halle, derrière la Mairie
DTSTART:20260511T070000
DTEND:20260512
SUMMARY:FOIRE PRIMÉE DE VEAUX DE LAIT DU LIMOUSIN LE LUNDI 11 MAI 2026
URL;VALUE=URI:https://www.lelonzac.fr/agenda/foire-primee-de-veaux-de-lait-du-limousin-le-lundi-11-mai-2026/
DTSTAMP:20260423T114058
UID:69ea054a2b0c1
END:VEVENT
END:VCALENDAR